BEGIN:VCALENDAR
VERSION:2.0
PRODID:-//SECURITY &amp; APPLIED LOGIC - ECPv6.15.20//NONSGML v1.0//EN
CALSCALE:GREGORIAN
METHOD:PUBLISH
X-ORIGINAL-URL:https://sal.cs.unibuc.ro
X-WR-CALDESC:Events for SECURITY &amp; APPLIED LOGIC
REFRESH-INTERVAL;VALUE=DURATION:PT1H
X-Robots-Tag:noindex
X-PUBLISHED-TTL:PT1H
BEGIN:VTIMEZONE
TZID:Europe/Bucharest
BEGIN:DAYLIGHT
TZOFFSETFROM:+0200
TZOFFSETTO:+0300
TZNAME:EEST
DTSTART:20200329T010000
END:DAYLIGHT
BEGIN:STANDARD
TZOFFSETFROM:+0300
TZOFFSETTO:+0200
TZNAME:EET
DTSTART:20201025T010000
END:STANDARD
BEGIN:DAYLIGHT
TZOFFSETFROM:+0200
TZOFFSETTO:+0300
TZNAME:EEST
DTSTART:20210328T010000
END:DAYLIGHT
BEGIN:STANDARD
TZOFFSETFROM:+0300
TZOFFSETTO:+0200
TZNAME:EET
DTSTART:20211031T010000
END:STANDARD
BEGIN:DAYLIGHT
TZOFFSETFROM:+0200
TZOFFSETTO:+0300
TZNAME:EEST
DTSTART:20220327T010000
END:DAYLIGHT
BEGIN:STANDARD
TZOFFSETFROM:+0300
TZOFFSETTO:+0200
TZNAME:EET
DTSTART:20221030T010000
END:STANDARD
END:VTIMEZONE
BEGIN:VEVENT
DTSTART;TZID=Europe/Bucharest:20210304T100000
DTEND;TZID=Europe/Bucharest:20210304T120000
DTSTAMP:20260423T093909
CREATED:20210303T165215Z
LAST-MODIFIED:20210317T165240Z
UID:691-1614852000-1614859200@sal.cs.unibuc.ro
SUMMARY:Unwinding of proofs
DESCRIPTION:Title: Unwinding of proofs \nSpeaker: Pedro Pinto (TU Darmstadt)  \n\nAbstract: \nThe unwinding of proofs program dates back to Kreisel in the fifties and rests on the following broad question: “What more do we know if we have proved a theorem by restricted means than if we merely know that it is true?”\n \n \nThis research program has since been dubbed proof mining and has been greatly developed during the last two decades and emerged as a new form of applied proof theory [1\,2]. Through the use of proof-theoretical tools\, the proof mining program is concerned with the unveil of hidden finitary and combinatorial content from proofs that use infinitary noneffective principles.\n\nIn this talk\, we set out to give a brief introduction to the proof mining program\, focusing on the following points: \n\n\n\nfunctional interpretations in an introductory way;\nthe bounded functional interpretation [3\,4];\na concrete translation example: the metric projection argument.\n\nWe finish with a brief discussion of some recent results [5\,6]. \nReferences: \n\n[1] U. Kohlenbach. Applied Proof Theory: Proof Interpretations and their Use in Mathematics. Springer Monographs in Mathematics. Springer-Verlag Berlin Heidelberg\, 2008.\n[2] U. Kohlenbach. Proof-theoretic methods in nonlinear analysis. In M. Viana B. Sirakov\, P. Ney de Souza\, editor\, Proceedings of the International Congress of Mathematicians – Rio de Janeiro 2018\, Vol. II: Invited lectures\, pages 61–82. World Sci. Publ.\, Hackensack\, NJ\, 2019.\n[3] F. Ferreira and P. Oliva. Bounded functional interpretation. Annals of Pure and Applied Logic\, 135:73-112\, 2005.\n[4] F. Ferreira. Injecting uniformities into Peano arithmetic. Annals of Pure and Applied Logic\, 157:122-129\, 2009.\n[5] B. Dinis and P. Pinto. Effective metastability for a method of alternating resolvents. arXiv:2101.12675 [math.FA]\, 2021.\n[6] U. Kohlenbach and P. Pinto. Quantitative translations for viscosity approximation methods in hyperbolic spaces. arXiv:2102.03981 [math.FA]\, 2021.\n  \n\n  \nReferences:
URL:https://sal.cs.unibuc.ro/event/unwinding-of-proofs/
CATEGORIES:Logic Seminar
END:VEVENT
END:VCALENDAR