BEGIN:VCALENDAR
VERSION:2.0
PRODID:-//SECURITY &amp; APPLIED LOGIC - ECPv6.15.20//NONSGML v1.0//EN
CALSCALE:GREGORIAN
METHOD:PUBLISH
X-WR-CALNAME:SECURITY &amp; APPLIED LOGIC
X-ORIGINAL-URL:https://sal.cs.unibuc.ro
X-WR-CALDESC:Events for SECURITY &amp; APPLIED LOGIC
REFRESH-INTERVAL;VALUE=DURATION:PT1H
X-Robots-Tag:noindex
X-PUBLISHED-TTL:PT1H
BEGIN:VTIMEZONE
TZID:Europe/Bucharest
BEGIN:DAYLIGHT
TZOFFSETFROM:+0200
TZOFFSETTO:+0300
TZNAME:EEST
DTSTART:20200329T010000
END:DAYLIGHT
BEGIN:STANDARD
TZOFFSETFROM:+0300
TZOFFSETTO:+0200
TZNAME:EET
DTSTART:20201025T010000
END:STANDARD
BEGIN:DAYLIGHT
TZOFFSETFROM:+0200
TZOFFSETTO:+0300
TZNAME:EEST
DTSTART:20210328T010000
END:DAYLIGHT
BEGIN:STANDARD
TZOFFSETFROM:+0300
TZOFFSETTO:+0200
TZNAME:EET
DTSTART:20211031T010000
END:STANDARD
BEGIN:DAYLIGHT
TZOFFSETFROM:+0200
TZOFFSETTO:+0300
TZNAME:EEST
DTSTART:20220327T010000
END:DAYLIGHT
BEGIN:STANDARD
TZOFFSETFROM:+0300
TZOFFSETTO:+0200
TZNAME:EET
DTSTART:20221030T010000
END:STANDARD
END:VTIMEZONE
BEGIN:VEVENT
DTSTART;TZID=Europe/Bucharest:20210401T100000
DTEND;TZID=Europe/Bucharest:20210401T120000
DTSTAMP:20260423T063158
CREATED:20210329T200608Z
LAST-MODIFIED:20210329T200608Z
UID:701-1617271200-1617278400@sal.cs.unibuc.ro
SUMMARY:An Introduction to Protocols in Dynamic Epistemic Logic
DESCRIPTION:Title: An Introduction to Protocols in Dynamic Epistemic Logic \nSpeaker: Alexandru Dragomir (University of Bucharest) \n\nAbstract:  \nDynamic epistemic logics are useful in reasoning about knowledge and acts of learning\, seen as epistemic actions. However\, not all epistemic actions are allowed to be executed in an initial epistemic model\, and this is where the concept of a protocol comes in: a protocol stipulates what epistemic actions are allowed to be performed in a model. The aim of my presentation is to introduce the audience to two accounts of protocols in DEL: Hoshi’s [1]\, and Wang’s [2]. \n\nReferences: \n[1] T. Hoshi\, Epistemic dynamics and protocol information. PhD thesis\, Stanford\, CA\, USA\, 2009.\n[2] Y. Wang\, Epistemic Modelling and Protocol Dynamics. PhD thesis\, University of Amsterdam\, 2010.
URL:https://sal.cs.unibuc.ro/event/an-introduction-to-protocols-in-dynamic-epistemic-logic/
CATEGORIES:Logic Seminar
END:VEVENT
END:VCALENDAR