BEGIN:VCALENDAR
VERSION:2.0
PRODID:-//SECURITY &amp; APPLIED LOGIC - ECPv6.15.20//NONSGML v1.0//EN
CALSCALE:GREGORIAN
METHOD:PUBLISH
X-ORIGINAL-URL:https://sal.cs.unibuc.ro
X-WR-CALDESC:Events for SECURITY &amp; APPLIED LOGIC
REFRESH-INTERVAL;VALUE=DURATION:PT1H
X-Robots-Tag:noindex
X-PUBLISHED-TTL:PT1H
BEGIN:VTIMEZONE
TZID:UTC
BEGIN:STANDARD
TZOFFSETFROM:+0000
TZOFFSETTO:+0000
TZNAME:UTC
DTSTART:20180101T000000
END:STANDARD
END:VTIMEZONE
BEGIN:VEVENT
DTSTART;TZID=UTC:20190919T100000
DTEND;TZID=UTC:20190919T120000
DTSTAMP:20260425T222902
CREATED:20190918T215721Z
LAST-MODIFIED:20190918T215721Z
UID:449-1568887200-1568894400@sal.cs.unibuc.ro
SUMMARY:Local Reasoning about Parametric and Reconfigurable Component-based Systems
DESCRIPTION:Speaker: Radu Iosif (CNRS – VERIMAG\, France) \n\nAbstract: We introduce a logical framework for the specification and verification of component-based systems\, in which finitely many component instances are active\, but the bound on their number is not known. Besides specifying and verifying parametric systems\, we consider the aspect of dynamic reconfiguration\, in which components can migrate at runtime on a physical map\, whose shape and size may change. We describe such para- metric and reconfigurable architectures using resource logics\, close in spirit to Separation Logic\, used to reason about dynamic pointer structures. These logics support the principle of local reasoning\, which is the key for writing modular specifications and building scalable verification algorithms\, that deal with large industrial-size systems. Joint work with Marius Bozga and Joseph Sifakis.
URL:https://sal.cs.unibuc.ro/event/local-reasoning-about-parametric-and-reconfigurable-component-based-systems/
LOCATION:Facultatea de Matematica si Informatica\, sala Google
CATEGORIES:Logic Seminar
END:VEVENT
END:VCALENDAR