BEGIN:VCALENDAR
VERSION:2.0
PRODID:-//SECURITY &amp; APPLIED LOGIC - ECPv6.15.20//NONSGML v1.0//EN
CALSCALE:GREGORIAN
METHOD:PUBLISH
X-ORIGINAL-URL:https://sal.cs.unibuc.ro
X-WR-CALDESC:Events for SECURITY &amp; APPLIED LOGIC
REFRESH-INTERVAL;VALUE=DURATION:PT1H
X-Robots-Tag:noindex
X-PUBLISHED-TTL:PT1H
BEGIN:VTIMEZONE
TZID:UTC
BEGIN:STANDARD
TZOFFSETFROM:+0000
TZOFFSETTO:+0000
TZNAME:UTC
DTSTART:20180101T000000
END:STANDARD
END:VTIMEZONE
BEGIN:VEVENT
DTSTART;TZID=UTC:20191101T093000
DTEND;TZID=UTC:20191103T130000
DTSTAMP:20260425T192951
CREATED:20191031T062011Z
LAST-MODIFIED:20191031T062011Z
UID:516-1572600600-1572786000@sal.cs.unibuc.ro
SUMMARY:ManyVal 2019
DESCRIPTION:In perioada 1-3 noiembrie organizam workshop-ul international ManyVal 2019\, dedicat in special cercetarilor in logica cu mai multe valori. Editia actuala beneficiaza si de participarea unor filozofi-logicieni de marca. Pentru mai multe detalii puteti consulta pagina manifestarii:\n\n\n\n\n\nhttps://cs.unibuc.ro/events/manyval2019/\n\n\n\n\n\nPersoanele inregistrate vor primi kit-ul workshop-ului si vor putea participa la mesele si activitatile sociale anuntate.\n\n\n\n\n\nParticiparea la prezentari NU presupune plata taxei de inregistrare\, iar anumite materiale (program\, carte de abstracte) vor putea fi descarcate de pe pagina ManyVal 2019.
URL:https://sal.cs.unibuc.ro/event/manyval-2019/
CATEGORIES:Logic Seminar
END:VEVENT
BEGIN:VEVENT
DTSTART;TZID=UTC:20191121T100000
DTEND;TZID=UTC:20191121T120000
DTSTAMP:20260425T192951
CREATED:20191118T114517Z
LAST-MODIFIED:20191211T053442Z
UID:521-1574330400-1574337600@sal.cs.unibuc.ro
SUMMARY:Operational Semantics of Security Protocols
DESCRIPTION:Speaker:  Ioana Leustean (University of Bucharest) \n\nAbstract: After a brief overview of the formal methods used for analyzing security protocols\, we will focus on the operational semantics developed in: \nC. Cremers\, S. Mauw\, Operational Semantics and Verification of Security Protocols\, Springer\, 2012. \n 
URL:https://sal.cs.unibuc.ro/event/operational-semantics-of-security-protocols/
LOCATION:Facultatea de Matematica si Informatica\, sala 202
CATEGORIES:Logic Seminar
END:VEVENT
END:VCALENDAR