BEGIN:VCALENDAR
VERSION:2.0
PRODID:-//SECURITY &amp; APPLIED LOGIC - ECPv6.15.20//NONSGML v1.0//EN
CALSCALE:GREGORIAN
METHOD:PUBLISH
X-WR-CALNAME:SECURITY &amp; APPLIED LOGIC
X-ORIGINAL-URL:https://sal.cs.unibuc.ro
X-WR-CALDESC:Events for SECURITY &amp; APPLIED LOGIC
REFRESH-INTERVAL;VALUE=DURATION:PT1H
X-Robots-Tag:noindex
X-PUBLISHED-TTL:PT1H
BEGIN:VTIMEZONE
TZID:UTC
BEGIN:STANDARD
TZOFFSETFROM:+0000
TZOFFSETTO:+0000
TZNAME:UTC
DTSTART:20180101T000000
END:STANDARD
END:VTIMEZONE
BEGIN:VEVENT
DTSTART;TZID=UTC:20190530T100000
DTEND;TZID=UTC:20190530T120000
DTSTAMP:20260426T063501
CREATED:20190529T063857Z
LAST-MODIFIED:20190529T063857Z
UID:421-1559210400-1559217600@sal.cs.unibuc.ro
SUMMARY:Protocols in Dynamic Epistemic Logic
DESCRIPTION:Speaker:  Alexandru Dragomir (University of Bucharest) \n\nAbstract: Dynamic epistemic logics are useful in reasoning about knowledge and certain acts of learning (epistemic actions). However\, not all epistemic actions are allowed to be executed in an initial epistemic model\, and this is where the concept of a protocol comes in: a protocol stipulates what epistemic actions are allowed to be performed in a model. The aim of my presentation is to introduce the audience to two accounts of protocols in DEL: one based on [1]\, and the second on [2]. \nReferences:\n[1] T. Hoshi\, Epistemic dynamics and protocol information\, PhD thesis\, Stanford University\, 2009.\n[2] Y. Wang\, Y. Epistemic Modelling and Protocol Dynamics\, PhD thesis\, University of Amsterdam\, 2010.
URL:https://sal.cs.unibuc.ro/event/protocols-in-dynamic-epistemic-logic/
LOCATION:Facultatea de Matematica si Informatica\, sala 202
CATEGORIES:Logic Seminar
END:VEVENT
END:VCALENDAR