BEGIN:VCALENDAR
VERSION:2.0
PRODID:-//SECURITY &amp; APPLIED LOGIC - ECPv6.15.20//NONSGML v1.0//EN
CALSCALE:GREGORIAN
METHOD:PUBLISH
X-WR-CALNAME:SECURITY &amp; APPLIED LOGIC
X-ORIGINAL-URL:https://sal.cs.unibuc.ro
X-WR-CALDESC:Events for SECURITY &amp; APPLIED LOGIC
REFRESH-INTERVAL;VALUE=DURATION:PT1H
X-Robots-Tag:noindex
X-PUBLISHED-TTL:PT1H
BEGIN:VTIMEZONE
TZID:Europe/Bucharest
BEGIN:DAYLIGHT
TZOFFSETFROM:+0200
TZOFFSETTO:+0300
TZNAME:EEST
DTSTART:20250330T010000
END:DAYLIGHT
BEGIN:STANDARD
TZOFFSETFROM:+0300
TZOFFSETTO:+0200
TZNAME:EET
DTSTART:20251026T010000
END:STANDARD
BEGIN:DAYLIGHT
TZOFFSETFROM:+0200
TZOFFSETTO:+0300
TZNAME:EEST
DTSTART:20260329T010000
END:DAYLIGHT
BEGIN:STANDARD
TZOFFSETFROM:+0300
TZOFFSETTO:+0200
TZNAME:EET
DTSTART:20261025T010000
END:STANDARD
BEGIN:DAYLIGHT
TZOFFSETFROM:+0200
TZOFFSETTO:+0300
TZNAME:EEST
DTSTART:20270328T010000
END:DAYLIGHT
BEGIN:STANDARD
TZOFFSETFROM:+0300
TZOFFSETTO:+0200
TZNAME:EET
DTSTART:20271031T010000
END:STANDARD
END:VTIMEZONE
BEGIN:VEVENT
DTSTART;TZID=Europe/Bucharest:20260403T090000
DTEND;TZID=Europe/Bucharest:20260403T100000
DTSTAMP:20260423T111418
CREATED:20260402T101227Z
LAST-MODIFIED:20260421T181254Z
UID:852-1775206800-1775210400@sal.cs.unibuc.ro
SUMMARY:Introduction in Quantum Computing (III)
DESCRIPTION:Title: Introduction in Quantum Computing (III) \nSpeaker: Mihai Prunescu (UB) \n\nAbstract: We continue the discussion on QC. \n  \n\nAcknowledgement: This seminar meeting is also due to Q-FENCE\, Programme HORIZON.2.3 – Civil Security for Society\, grant agreement ID: 101225708. \n \nThis project has received funding from the European Unions Horizon Europe research and innovation programme under grant agreement No. 101225708 as well as the Swiss State Secretariat for Education\, Research and Innovation (SERI).
URL:https://sal.cs.unibuc.ro/event/852/
LOCATION:Facultatea de Matematica si Informatica\, sala S.213
CATEGORIES:Cryptography Seminar
END:VEVENT
END:VCALENDAR